BEGIN:VCALENDAR
VERSION:2.0
PRODID:-//SARCOA - ECPv6.15.20//NONSGML v1.0//EN
CALSCALE:GREGORIAN
METHOD:PUBLISH
X-WR-CALNAME:SARCOA
X-ORIGINAL-URL:https://sarcoa.org
X-WR-CALDESC:Events for SARCOA
REFRESH-INTERVAL;VALUE=DURATION:PT1H
X-Robots-Tag:noindex
X-PUBLISHED-TTL:PT1H
BEGIN:VTIMEZONE
TZID:America/Chicago
BEGIN:DAYLIGHT
TZOFFSETFROM:-0600
TZOFFSETTO:-0500
TZNAME:CDT
DTSTART:20220313T080000
END:DAYLIGHT
BEGIN:STANDARD
TZOFFSETFROM:-0500
TZOFFSETTO:-0600
TZNAME:CST
DTSTART:20221106T070000
END:STANDARD
BEGIN:DAYLIGHT
TZOFFSETFROM:-0600
TZOFFSETTO:-0500
TZNAME:CDT
DTSTART:20230312T080000
END:DAYLIGHT
BEGIN:STANDARD
TZOFFSETFROM:-0500
TZOFFSETTO:-0600
TZNAME:CST
DTSTART:20231105T070000
END:STANDARD
BEGIN:DAYLIGHT
TZOFFSETFROM:-0600
TZOFFSETTO:-0500
TZNAME:CDT
DTSTART:20240310T080000
END:DAYLIGHT
BEGIN:STANDARD
TZOFFSETFROM:-0500
TZOFFSETTO:-0600
TZNAME:CST
DTSTART:20241103T070000
END:STANDARD
BEGIN:DAYLIGHT
TZOFFSETFROM:-0600
TZOFFSETTO:-0500
TZNAME:CDT
DTSTART:20250309T080000
END:DAYLIGHT
BEGIN:STANDARD
TZOFFSETFROM:-0500
TZOFFSETTO:-0600
TZNAME:CST
DTSTART:20251102T070000
END:STANDARD
END:VTIMEZONE
BEGIN:VEVENT
DTSTART;VALUE=DATE:20230101
DTEND;VALUE=DATE:20250101
DTSTAMP:20260425T222116
CREATED:20220818T155657Z
LAST-MODIFIED:20240208T164359Z
UID:6831-1672531200-1735689599@sarcoa.org
SUMMARY:Bingocize
DESCRIPTION:Bingocize® is a socially engaging group-based program that combines exercise\, health education\, and the widely popular game of bingo. Research has shown that participants can significantly improve their physical\, social\, and mental health. Virtual and physical Bingocize events are scheduled throughout the year. For more information\, to view upcoming events\, and to register click the button below: \nLearn More
URL:https://sarcoa.org/event/bingocize/
ATTACH;FMTTYPE=image/jpeg:https://sarcoa.org/wp-content/uploads/2022/08/bingocize.jpg
END:VEVENT
END:VCALENDAR