BEGIN:VCALENDAR
VERSION:2.0
PRODID:-//SARCOA - ECPv6.15.20//NONSGML v1.0//EN
CALSCALE:GREGORIAN
METHOD:PUBLISH
X-WR-CALNAME:SARCOA
X-ORIGINAL-URL:https://sarcoa.org
X-WR-CALDESC:Events for SARCOA
REFRESH-INTERVAL;VALUE=DURATION:PT1H
X-Robots-Tag:noindex
X-PUBLISHED-TTL:PT1H
BEGIN:VTIMEZONE
TZID:America/Chicago
BEGIN:DAYLIGHT
TZOFFSETFROM:-0600
TZOFFSETTO:-0500
TZNAME:CDT
DTSTART:20230312T080000
END:DAYLIGHT
BEGIN:STANDARD
TZOFFSETFROM:-0500
TZOFFSETTO:-0600
TZNAME:CST
DTSTART:20231105T070000
END:STANDARD
BEGIN:DAYLIGHT
TZOFFSETFROM:-0600
TZOFFSETTO:-0500
TZNAME:CDT
DTSTART:20240310T080000
END:DAYLIGHT
BEGIN:STANDARD
TZOFFSETFROM:-0500
TZOFFSETTO:-0600
TZNAME:CST
DTSTART:20241103T070000
END:STANDARD
BEGIN:DAYLIGHT
TZOFFSETFROM:-0600
TZOFFSETTO:-0500
TZNAME:CDT
DTSTART:20250309T080000
END:DAYLIGHT
BEGIN:STANDARD
TZOFFSETFROM:-0500
TZOFFSETTO:-0600
TZNAME:CST
DTSTART:20251102T070000
END:STANDARD
BEGIN:DAYLIGHT
TZOFFSETFROM:-0600
TZOFFSETTO:-0500
TZNAME:CDT
DTSTART:20260308T080000
END:DAYLIGHT
BEGIN:STANDARD
TZOFFSETFROM:-0500
TZOFFSETTO:-0600
TZNAME:CST
DTSTART:20261101T070000
END:STANDARD
END:VTIMEZONE
BEGIN:VEVENT
DTSTART;VALUE=DATE:20240912
DTEND;VALUE=DATE:20260101
DTSTAMP:20260424T161335
CREATED:20240912T154942Z
LAST-MODIFIED:20240912T154942Z
UID:9280-1726099200-1767225599@sarcoa.org
SUMMARY:Raising Children Support Group
DESCRIPTION:Are You A Grandparent Raising Grandchildren? \nThe Older Relatives Raising Children support group meets the last Thursday of each month at SARCOA. These meetings allow older relatives and grandparents raising children to meet with a group of their peers and learn about community resources and financial assistance available. The meetings are held at SARCOA\, 1075 S. Brannon Stand Road\, in Dothan. For more information call (334) 793-6843. To download a flyer click here.
URL:https://sarcoa.org/event/raising-children-support-group/
ATTACH;FMTTYPE=image/jpeg:https://sarcoa.org/wp-content/uploads/2024/09/raising-grands-9-24.jpg
END:VEVENT
BEGIN:VEVENT
DTSTART;VALUE=DATE:20250819
DTEND;VALUE=DATE:20250919
DTSTAMP:20260424T161335
CREATED:20250725T195204Z
LAST-MODIFIED:20250725T195543Z
UID:10075-1755561600-1758239999@sarcoa.org
SUMMARY:Food For Thought Events
DESCRIPTION:Food For Thought Events August 19 and September 18 \nAre you a caregiver for someone living with dementia?\nJoin us for a practical and compassionate conversation about the legal preparations needed as individuals approach the final stages of life.\nThis free group session will help you better understand topics like powers of attorney\, necessary documents\, and how to ensure everything is in place before it’s needed.\nChoose a session that fits your schedule:\n\nTuesday\, August 19 OR Thursday\, September 18 from 10:00 AM – 12:00 PM\nSARCOA Robert Crowder Conference Room\n1075 S. Brannon Stand Road\, Dothan\, AL 36305\n\nWhat to expect:\n\nLearn from legal experts who understand the unique needs of dementia caregivers\nEnjoy light refreshments\nConnect with others navigating similar challenges\n\nWho should attend:\n\nFamily members\, friends\, or caregivers of individuals living with dementia who want to be proactive and prepared for life’s later stages.\n\nTo register\, contact Joy Riddle at 334-793-6843. To download a flyer click the button below.\n  \nDownload Flyer
URL:https://sarcoa.org/event/food-for-thought-events/
ATTACH;FMTTYPE=image/jpeg:https://sarcoa.org/wp-content/uploads/2025/07/Food-For-Thought-event.jpg
END:VEVENT
END:VCALENDAR