BEGIN:VCALENDAR
VERSION:2.0
PRODID:-//SARCOA - ECPv6.15.20//NONSGML v1.0//EN
CALSCALE:GREGORIAN
METHOD:PUBLISH
X-ORIGINAL-URL:https://sarcoa.org
X-WR-CALDESC:Events for SARCOA
REFRESH-INTERVAL;VALUE=DURATION:PT1H
X-Robots-Tag:noindex
X-PUBLISHED-TTL:PT1H
BEGIN:VTIMEZONE
TZID:America/Chicago
BEGIN:DAYLIGHT
TZOFFSETFROM:-0600
TZOFFSETTO:-0500
TZNAME:CDT
DTSTART:20190310T080000
END:DAYLIGHT
BEGIN:STANDARD
TZOFFSETFROM:-0500
TZOFFSETTO:-0600
TZNAME:CST
DTSTART:20191103T070000
END:STANDARD
BEGIN:DAYLIGHT
TZOFFSETFROM:-0600
TZOFFSETTO:-0500
TZNAME:CDT
DTSTART:20200308T080000
END:DAYLIGHT
BEGIN:STANDARD
TZOFFSETFROM:-0500
TZOFFSETTO:-0600
TZNAME:CST
DTSTART:20201101T070000
END:STANDARD
BEGIN:DAYLIGHT
TZOFFSETFROM:-0600
TZOFFSETTO:-0500
TZNAME:CDT
DTSTART:20210314T080000
END:DAYLIGHT
BEGIN:STANDARD
TZOFFSETFROM:-0500
TZOFFSETTO:-0600
TZNAME:CST
DTSTART:20211107T070000
END:STANDARD
END:VTIMEZONE
BEGIN:VEVENT
DTSTART;VALUE=DATE:20200213
DTEND;VALUE=DATE:20200214
DTSTAMP:20260423T212539
CREATED:20160316T174710Z
LAST-MODIFIED:20200207T171613Z
UID:610-1581552000-1581638399@sarcoa.org
SUMMARY:Valentine's Day Concert Rescheduled
DESCRIPTION:THE CONCERT HAS BEEN RESCHEDULED FOR THURSDAY\, FEBRUARY 13\, 2020. \nThe Wiregrass Boomers and Seniors Valentine’s Concert & Dance will be held Thursday\, Feb. 16 at the Enterprise Civic Center from 6:30-8:30 p.m. “The Dothan Moonlighters\,” a popular local big band\, jazz and swing music band\, will perform.  Dancers and spectators are invited to come and have a relaxing evening of music. Light refreshments will be served. Seating is limited\, so notification of attendance is important. \nContact SARCOA at 334-793-6843. Admission is free. \nTo download a flyer for the concert click here.
URL:https://sarcoa.org/event/valentines-concert/
LOCATION:AL\, United States
CATEGORIES:Event
ATTACH;FMTTYPE=image/jpeg:https://sarcoa.org/wp-content/uploads/2016/03/valentine-e1554240328637.jpg
END:VEVENT
END:VCALENDAR