BEGIN:VCALENDAR
VERSION:2.0
PRODID:-//SARCOA - ECPv6.15.20//NONSGML v1.0//EN
CALSCALE:GREGORIAN
METHOD:PUBLISH
X-WR-CALNAME:SARCOA
X-ORIGINAL-URL:https://sarcoa.org
X-WR-CALDESC:Events for SARCOA
REFRESH-INTERVAL;VALUE=DURATION:PT1H
X-Robots-Tag:noindex
X-PUBLISHED-TTL:PT1H
BEGIN:VTIMEZONE
TZID:America/Chicago
BEGIN:DAYLIGHT
TZOFFSETFROM:-0600
TZOFFSETTO:-0500
TZNAME:CDT
DTSTART:20240310T080000
END:DAYLIGHT
BEGIN:STANDARD
TZOFFSETFROM:-0500
TZOFFSETTO:-0600
TZNAME:CST
DTSTART:20241103T070000
END:STANDARD
BEGIN:DAYLIGHT
TZOFFSETFROM:-0600
TZOFFSETTO:-0500
TZNAME:CDT
DTSTART:20250309T080000
END:DAYLIGHT
BEGIN:STANDARD
TZOFFSETFROM:-0500
TZOFFSETTO:-0600
TZNAME:CST
DTSTART:20251102T070000
END:STANDARD
BEGIN:DAYLIGHT
TZOFFSETFROM:-0600
TZOFFSETTO:-0500
TZNAME:CDT
DTSTART:20260308T080000
END:DAYLIGHT
BEGIN:STANDARD
TZOFFSETFROM:-0500
TZOFFSETTO:-0600
TZNAME:CST
DTSTART:20261101T070000
END:STANDARD
BEGIN:DAYLIGHT
TZOFFSETFROM:-0600
TZOFFSETTO:-0500
TZNAME:CDT
DTSTART:20270314T080000
END:DAYLIGHT
BEGIN:STANDARD
TZOFFSETFROM:-0500
TZOFFSETTO:-0600
TZNAME:CST
DTSTART:20271107T070000
END:STANDARD
END:VTIMEZONE
BEGIN:VEVENT
DTSTART;VALUE=DATE:20251101
DTEND;VALUE=DATE:20270101
DTSTAMP:20260423T163456
CREATED:20230524T214127Z
LAST-MODIFIED:20251112T164739Z
UID:8073-1761955200-1798761599@sarcoa.org
SUMMARY:Caregiver Support Group
DESCRIPTION:SARCOA’s support group for caregivers meets on the first Thursday of every month from 9:00 a.m. – 10:00 a.m. Please join us at SARCOA\, 1075 S. Brannon Stand Road in Dothan. Call (334) 793-6843 with any questions. The purpose of a caregiver support group is to provide a safe space for caregivers to share their experiences\, learn from other caregivers\, and get support. Caregiver support groups can help caregivers in many ways\, including: \n\nEmotional support: Caregivers can express their emotions and feel validated and understood.\n\n\nEducation: Caregivers can learn about caregiving techniques\, healthcare systems\, and community resources.\n\n\nCoping skills: Caregivers can learn stress management techniques and self-care practices.\n\n\nSense of belonging: Caregivers can share challenges and triumphs with others who understand.\n\n\nReduced isolation: Caregivers can feel less lonely and isolated.\n\n\nNetwork of support: Caregivers can establish a network of friends who they can call for help.\n\n\nReduced caregiver burden: Caregivers can learn to manage stress and improve their knowledge.\n\nIf you have any questions\, please call SARCOA at 334-793-6843. \nFor additional information click the button below. \nGo To Caregiver Assistance Page
URL:https://sarcoa.org/event/caregiver-support-group/
ATTACH;FMTTYPE=image/jpeg:https://sarcoa.org/wp-content/uploads/2023/05/sarcoa-caregiver-supportgroup.jpg
END:VEVENT
BEGIN:VEVENT
DTSTART;VALUE=DATE:20260113
DTEND;VALUE=DATE:20261209
DTSTAMP:20260423T163456
CREATED:20250212T215416Z
LAST-MODIFIED:20251210T164342Z
UID:9903-1768262400-1796774399@sarcoa.org
SUMMARY:Caregiver Compass Support Group
DESCRIPTION:Caregiver Compass is a nurturing and informative opportunity for caregivers of those facing memory loss. Join us to exchange experiences\, discover practical strategies\, and access valuable resources. Caregiver Compass serves as a support group for caregivers seeking guidance on memory care resources\, education\, and the essential support from fellow caregivers. Sponsored by SARCOA\, Flowers Hospital and the PANDA Project\, the group meets monthly at Flowers Hospital\, 4370 West Main Street in Dothan. Meetings are held in the Atrium Classroom located on the first floor of the main hospital just left of the main entrance. Look for signage. \nAll meetings are held from 4:30 p.m. – 5:30 p.m. The 2026 meeting schedule is January 13\, February 10\, March 10\, April 14\, May 12\, June 9\, July 14\, August 11\, September 8\, October 13\, November 10\, and December 8. To download a flyer click here. \n 
URL:https://sarcoa.org/event/caregiver-compass-support-group/
ATTACH;FMTTYPE=image/jpeg:https://sarcoa.org/wp-content/uploads/2025/12/Caregiver-Compass-social-media.jpg
END:VEVENT
BEGIN:VEVENT
DTSTART;TZID=America/Chicago:20260611T090000
DTEND;TZID=America/Chicago:20260611T123000
DTSTAMP:20260423T163456
CREATED:20240508T214610Z
LAST-MODIFIED:20260313T182715Z
UID:9172-1781168400-1781181000@sarcoa.org
SUMMARY:Fraud Summit
DESCRIPTION:2026 Fraud Summit\nJoin us for the 2026 Fraud Summit where speakers from the Alabama Securities Commission\, the Alabama Attorney General’s Office\, AARP\, and SHIP/SMP will be educating senior citizens on protecting themselves from scams\, financial and other types of exploitation. A complimentary lunch will be served. \nDate: Thursday\, June 11\, 2026\nTime: 9 am – 12:30 pm\nLocation: SARCOA\, 105 S. Brannon Stand Road\, Dothan\, AL 36301 \nSeating is limited for this no-cost event but you must reserve your seat by June 1. To reserve your seat\, email joy.riddle@sarcoa.org or call (334) 793-6843. \nTo download the event flier click here.
URL:https://sarcoa.org/event/fraud-summit-2/
ATTACH;FMTTYPE=image/jpeg:https://sarcoa.org/wp-content/uploads/2026/03/Fraud-Summit-2026.jpg
END:VEVENT
END:VCALENDAR