BEGIN:VCALENDAR
VERSION:2.0
PRODID:-//SARCOA - ECPv6.15.20//NONSGML v1.0//EN
CALSCALE:GREGORIAN
METHOD:PUBLISH
X-ORIGINAL-URL:https://sarcoa.org
X-WR-CALDESC:Events for SARCOA
REFRESH-INTERVAL;VALUE=DURATION:PT1H
X-Robots-Tag:noindex
X-PUBLISHED-TTL:PT1H
BEGIN:VTIMEZONE
TZID:America/Chicago
BEGIN:DAYLIGHT
TZOFFSETFROM:-0600
TZOFFSETTO:-0500
TZNAME:CDT
DTSTART:20250309T080000
END:DAYLIGHT
BEGIN:STANDARD
TZOFFSETFROM:-0500
TZOFFSETTO:-0600
TZNAME:CST
DTSTART:20251102T070000
END:STANDARD
BEGIN:DAYLIGHT
TZOFFSETFROM:-0600
TZOFFSETTO:-0500
TZNAME:CDT
DTSTART:20260308T080000
END:DAYLIGHT
BEGIN:STANDARD
TZOFFSETFROM:-0500
TZOFFSETTO:-0600
TZNAME:CST
DTSTART:20261101T070000
END:STANDARD
BEGIN:DAYLIGHT
TZOFFSETFROM:-0600
TZOFFSETTO:-0500
TZNAME:CDT
DTSTART:20270314T080000
END:DAYLIGHT
BEGIN:STANDARD
TZOFFSETFROM:-0500
TZOFFSETTO:-0600
TZNAME:CST
DTSTART:20271107T070000
END:STANDARD
END:VTIMEZONE
BEGIN:VEVENT
DTSTART;TZID=America/Chicago:20260514T100000
DTEND;TZID=America/Chicago:20260514T120000
DTSTAMP:20260424T175106
CREATED:20260413T211919Z
LAST-MODIFIED:20260413T211919Z
UID:10937-1778752800-1778760000@sarcoa.org
SUMMARY:Public Hearing
DESCRIPTION:SARCOA will hold an Advisory Council meeting and public hearing to establish priorities of service for persons age 60 and above\, as established in the Older Americans Act of 1965\, for the counties of Barbour\, Coffee\, Covington\, Dale\, Geneva\, Henry and Houston. \nThe meeting and public hearing will be held at 1065 S. Brannon Stand Road\, Dothan\, AL 36305 at 10:00 a.m. on May 14\, 2026.  Contact us for at 334-793-6843 for more information.
URL:https://sarcoa.org/event/public-hearing/
ATTACH;FMTTYPE=image/jpeg:https://sarcoa.org/wp-content/uploads/2026/04/public-hearing-event.jpg
END:VEVENT
BEGIN:VEVENT
DTSTART;TZID=America/Chicago:20260611T090000
DTEND;TZID=America/Chicago:20260611T123000
DTSTAMP:20260424T175106
CREATED:20240508T214610Z
LAST-MODIFIED:20260313T182715Z
UID:9172-1781168400-1781181000@sarcoa.org
SUMMARY:Fraud Summit
DESCRIPTION:2026 Fraud Summit\nJoin us for the 2026 Fraud Summit where speakers from the Alabama Securities Commission\, the Alabama Attorney General’s Office\, AARP\, and SHIP/SMP will be educating senior citizens on protecting themselves from scams\, financial and other types of exploitation. A complimentary lunch will be served. \nDate: Thursday\, June 11\, 2026\nTime: 9 am – 12:30 pm\nLocation: SARCOA\, 105 S. Brannon Stand Road\, Dothan\, AL 36301 \nSeating is limited for this no-cost event but you must reserve your seat by June 1. To reserve your seat\, email joy.riddle@sarcoa.org or call (334) 793-6843. \nTo download the event flier click here.
URL:https://sarcoa.org/event/fraud-summit-2/
ATTACH;FMTTYPE=image/jpeg:https://sarcoa.org/wp-content/uploads/2026/03/Fraud-Summit-2026.jpg
END:VEVENT
END:VCALENDAR