BEGIN:VCALENDAR
VERSION:2.0
PRODID:-//SARCOA - ECPv6.15.20//NONSGML v1.0//EN
CALSCALE:GREGORIAN
METHOD:PUBLISH
X-WR-CALNAME:SARCOA
X-ORIGINAL-URL:https://sarcoa.org
X-WR-CALDESC:Events for SARCOA
REFRESH-INTERVAL;VALUE=DURATION:PT1H
X-Robots-Tag:noindex
X-PUBLISHED-TTL:PT1H
BEGIN:VTIMEZONE
TZID:America/Chicago
BEGIN:DAYLIGHT
TZOFFSETFROM:-0600
TZOFFSETTO:-0500
TZNAME:CDT
DTSTART:20180311T080000
END:DAYLIGHT
BEGIN:STANDARD
TZOFFSETFROM:-0500
TZOFFSETTO:-0600
TZNAME:CST
DTSTART:20181104T070000
END:STANDARD
BEGIN:DAYLIGHT
TZOFFSETFROM:-0600
TZOFFSETTO:-0500
TZNAME:CDT
DTSTART:20190310T080000
END:DAYLIGHT
BEGIN:STANDARD
TZOFFSETFROM:-0500
TZOFFSETTO:-0600
TZNAME:CST
DTSTART:20191103T070000
END:STANDARD
BEGIN:DAYLIGHT
TZOFFSETFROM:-0600
TZOFFSETTO:-0500
TZNAME:CDT
DTSTART:20200308T080000
END:DAYLIGHT
BEGIN:STANDARD
TZOFFSETFROM:-0500
TZOFFSETTO:-0600
TZNAME:CST
DTSTART:20201101T070000
END:STANDARD
END:VTIMEZONE
BEGIN:VEVENT
DTSTART;TZID=America/Chicago:20190726T140000
DTEND;TZID=America/Chicago:20190726T150000
DTSTAMP:20260425T054401
CREATED:20190613T185857Z
LAST-MODIFIED:20190614T143129Z
UID:3344-1564149600-1564153200@sarcoa.org
SUMMARY:Ombudsman Meeting
DESCRIPTION:The Ombudsman program is proud to announce their first interagency meeting. Meeting will be held July 26\, 2019 from 2 – 3 p.m.  at SARCOA.  This meeting will allow people in the community to bring concerns regarding nursing homes in the seven counties that SARCOA covers. Participants will pick one concern to address for the year. We will follow up with all participants to let them know what action has been taken to address the concern. If you are not able to attend the meeting\, we will have a dial in number so that you can participate by phone. If you are interested or would like to register for the meeting\, please contact Alicia Anderson or Rob Windham at 334-793-6843. \n 
URL:https://sarcoa.org/event/ombudsman-meeting/
LOCATION:SARCOA\, 1075 S. Brannon Stand Rd.\, Dothan\, AL\, 36305\, United States
ATTACH;FMTTYPE=image/jpeg:https://sarcoa.org/wp-content/uploads/2019/06/ombudsman.jpg
END:VEVENT
BEGIN:VEVENT
DTSTART;TZID=America/Chicago:20190723T083000
DTEND;TZID=America/Chicago:20190723T153000
DTSTAMP:20260425T054401
CREATED:20190613T192308Z
LAST-MODIFIED:20190613T202544Z
UID:3350-1563870600-1563895800@sarcoa.org
SUMMARY:Driver Safety Course
DESCRIPTION:SARCOA is hosting an AARP Driver Safety course Tuesday\, July 23 for people age 50 and older. Call 256-690-9178 to register. Take the AARP Smart Driver™ classroom course and you could save money on your auto insurance!* \n\nRefresh your driving skills and knowledge of the rules of the road.\nLearn techniques for handling left turns\, right-of-way and roundabouts.\nDiscover proven driving methods to help keep you and your loved ones safe on the road.\nTuesday\, July 23 from 8:30 a.m. to 3:30 p.m. Break for lunch 11:30-12:30.\n\nLocation: SARCOA. 1075 S Brannon Stand Road\, Dothan \n$15 for AARP members\, $20 for non-members. \nwww.aarp.org/drive
URL:https://sarcoa.org/event/driver-safety-course/
LOCATION:SARCOA\, 1075 S. Brannon Stand Rd.\, Dothan\, AL\, 36305\, United States
ATTACH;FMTTYPE=image/jpeg:https://sarcoa.org/wp-content/uploads/2019/06/car.jpg
END:VEVENT
BEGIN:VEVENT
DTSTART;TZID=America/Chicago:20190626T103000
DTEND;TZID=America/Chicago:20190626T103000
DTSTAMP:20260425T054401
CREATED:20190625T193912Z
LAST-MODIFIED:20190625T194127Z
UID:3396-1561545000-1561545000@sarcoa.org
SUMMARY:Board Meeting
DESCRIPTION:There will be a Board of Directors meeting on June 26\, 2019 at 10:30 a.m.
URL:https://sarcoa.org/event/board-meeting/
ATTACH;FMTTYPE=image/jpeg:https://sarcoa.org/wp-content/uploads/2019/06/sarcoa-bdmtg.jpg
END:VEVENT
END:VCALENDAR