BEGIN:VCALENDAR
VERSION:2.0
PRODID:-//SARCOA - ECPv6.15.20//NONSGML v1.0//EN
CALSCALE:GREGORIAN
METHOD:PUBLISH
X-WR-CALNAME:SARCOA
X-ORIGINAL-URL:https://sarcoa.org
X-WR-CALDESC:Events for SARCOA
REFRESH-INTERVAL;VALUE=DURATION:PT1H
X-Robots-Tag:noindex
X-PUBLISHED-TTL:PT1H
BEGIN:VTIMEZONE
TZID:America/Chicago
BEGIN:DAYLIGHT
TZOFFSETFROM:-0600
TZOFFSETTO:-0500
TZNAME:CDT
DTSTART:20180311T080000
END:DAYLIGHT
BEGIN:STANDARD
TZOFFSETFROM:-0500
TZOFFSETTO:-0600
TZNAME:CST
DTSTART:20181104T070000
END:STANDARD
BEGIN:DAYLIGHT
TZOFFSETFROM:-0600
TZOFFSETTO:-0500
TZNAME:CDT
DTSTART:20190310T080000
END:DAYLIGHT
BEGIN:STANDARD
TZOFFSETFROM:-0500
TZOFFSETTO:-0600
TZNAME:CST
DTSTART:20191103T070000
END:STANDARD
BEGIN:DAYLIGHT
TZOFFSETFROM:-0600
TZOFFSETTO:-0500
TZNAME:CDT
DTSTART:20200308T080000
END:DAYLIGHT
BEGIN:STANDARD
TZOFFSETFROM:-0500
TZOFFSETTO:-0600
TZNAME:CST
DTSTART:20201101T070000
END:STANDARD
END:VTIMEZONE
BEGIN:VEVENT
DTSTART;TZID=America/Chicago:20190626T103000
DTEND;TZID=America/Chicago:20190626T103000
DTSTAMP:20260424T023138
CREATED:20190625T193912Z
LAST-MODIFIED:20190625T194127Z
UID:3396-1561545000-1561545000@sarcoa.org
SUMMARY:Board Meeting
DESCRIPTION:There will be a Board of Directors meeting on June 26\, 2019 at 10:30 a.m.
URL:https://sarcoa.org/event/board-meeting/
ATTACH;FMTTYPE=image/jpeg:https://sarcoa.org/wp-content/uploads/2019/06/sarcoa-bdmtg.jpg
END:VEVENT
END:VCALENDAR